BEGIN:VCALENDAR
VERSION:2.0
PRODID:-//Chris Stockert//NONSGML kigkonsult.se iCalcreator 2.41.92//
CALSCALE:GREGORIAN
METHOD:PUBLISH
UID:35666331-3132-4237-b866-666436613261
X-WR-CALNAME:iCagenda
X-WR-CALDESC:Event Management Extension for Joomla!
X-WR-RELCALID:3E26604A-50F4-4449-8B3E-E4F4932D05B5
X-WR-TIMEZONE:UTC
BEGIN:VTIMEZONE
TZID:UTC
END:VTIMEZONE
BEGIN:VEVENT
UID:61653535-6433-4839-b734-623034393664
DTSTAMP:20260424T174425Z
CATEGORIES:Live Musik
CLASS:PUBLIC
DESCRIPTION:
DTSTART:20260613T224000Z
DTEND:20260613T233000Z
GEO:+49.445721;+7.769969
LOCATION:Fruchthalle Kaiserslautern
ORGANIZER:
SEQUENCE:1
SUMMARY:Lange Nacht der Kultur - Brass Machine - Fruchthalle Kaiserslautern
TRANSP:OPAQUE
URL:https://www.chris2026.chris-stockert.de/index.php/unterwegs/8-lange-nac
 ht-der-kultur-brass-machine-fruchthalle-kaiserslautern
END:VEVENT
END:VCALENDAR
