BEGIN:VCALENDAR
VERSION:2.0
PRODID:-//Chris Stockert//NONSGML kigkonsult.se iCalcreator 2.41.92//
CALSCALE:GREGORIAN
METHOD:PUBLISH
UID:36366662-3262-4063-a530-613234383761
X-WR-CALNAME:iCagenda
X-WR-CALDESC:Event Management Extension for Joomla!
X-WR-RELCALID:3E26604A-50F4-4449-8B3E-E4F4932D05B5
X-WR-TIMEZONE:UTC
BEGIN:VTIMEZONE
TZID:UTC
END:VTIMEZONE
BEGIN:VEVENT
UID:35613066-3231-4164-b834-646266663131
DTSTAMP:20260424T193650Z
CATEGORIES:Live Musik
CLASS:PUBLIC
DESCRIPTION:
DTSTART:20260719T190000Z
DTEND:20260719T190000Z
GEO:+49.506954;+8.212065
LOCATION:WEINreich\, Weinstube & Gästezimmer
ORGANIZER:
SEQUENCE:1
SUMMARY:Stadtmauerfest im WEINreich Freinsheim - 2MOTION - Chris Stockert &
  Gäste
TRANSP:OPAQUE
URL:https://www.chris2026.chris-stockert.de/index.php/unterwegs/6-stadtmaue
 rfest-im-weinreich-freinsheim-2motion-chris-stockert-gaeste/2026-07-19-19-
 00
END:VEVENT
END:VCALENDAR
