BEGIN:VCALENDAR
VERSION:2.0
PRODID:-//Chris Stockert//NONSGML kigkonsult.se iCalcreator 2.41.92//
CALSCALE:GREGORIAN
METHOD:PUBLISH
UID:38653834-6434-4032-b764-323361393839
X-WR-CALNAME:iCagenda
X-WR-CALDESC:Event Management Extension for Joomla!
X-WR-RELCALID:3E26604A-50F4-4449-8B3E-E4F4932D05B5
X-WR-TIMEZONE:UTC
BEGIN:VTIMEZONE
TZID:UTC
END:VTIMEZONE
BEGIN:VEVENT
UID:66353937-6131-4337-a235-643533386462
DTSTAMP:20260424T174917Z
CATEGORIES:Live Musik
CLASS:PUBLIC
DESCRIPTION:
DTSTART:20260606T190000Z
DTEND:20260606T190000Z
GEO:+49.506954;+8.212065
LOCATION:WEINreich\, Weinstube & Gästezimmer
ORGANIZER:
SEQUENCE:1
SUMMARY:Altstadtfest im WEINREICH Freinsheim - 2MOTION - Chris Stockert & G
 äste
TRANSP:OPAQUE
URL:https://www.chris2026.chris-stockert.de/index.php/unterwegs/5-altstadtf
 est-im-weinreich-freinsheim-2motion-chris-stockert-gaeste/2026-06-06-19-00
END:VEVENT
END:VCALENDAR
