BEGIN:VCALENDAR
VERSION:2.0
PRODID:-//Chris Stockert//NONSGML kigkonsult.se iCalcreator 2.41.92//
CALSCALE:GREGORIAN
METHOD:PUBLISH
UID:61633464-6438-4234-b437-373133303037
X-WR-CALNAME:iCagenda
X-WR-CALDESC:Event Management Extension for Joomla!
X-WR-RELCALID:3E26604A-50F4-4449-8B3E-E4F4932D05B5
X-WR-TIMEZONE:UTC
BEGIN:VTIMEZONE
TZID:UTC
END:VTIMEZONE
BEGIN:VEVENT
UID:38326164-3035-4231-a531-313434346564
DTSTAMP:20260424T174943Z
CATEGORIES:DJ NOVAQ
CLASS:PUBLIC
DESCRIPTION;ALTREP="CID:<FFFF__=0ABBE548DFE235B58f9e8a93d@coffeebean.com>":
 12. Juni 2026 | 18 Uhr \nSommerGartenParty\n Ort: Neumühlepark \n\nEin lau
 schiger Sommerabend\, ein kühles Getränk und gute Laune Musik – der perfek
 te Start ins Wochenende!\nDas BEATZ &amp\; Sax Duo verbindet die kraftvoll
 en Beats von DJ NOVAQ mit dem ausdrucksstarken Saxophonspiel von Jan Beili
 ng – eine Kombination\, die sofort Stimmung schafft.\n\nFoto: Christian St
 ockert\n\n\n\n\nFoto: VIEW\n\nGetränke\n\nCuvée Weinbar &amp\; Vinothek\nB
 istro im Neumühlepark (GEÖFFNET BIS 22 UHR)\n\nSpeisen\n\nBistro im Neumüh
 lepark\nMobile Pizzeria Da Giuseppe\nBuntes Haus Knörr\n\n
DTSTART:20260612T122000Z
DTEND:20260612T220000Z
GEO:+49.449654;+7.755171
LOCATION:Neumühlenpark Kaiserslautern
ORGANIZER:
SEQUENCE:1
SUMMARY:NOVAQ + Sax in der Gartenschau Kaiserslautern zur Sommergartenparty
  im Neumühlenpark
TRANSP:OPAQUE
URL:https://www.chris2026.chris-stockert.de/index.php/unterwegs/16-novaq-sa
 x-in-der-gartenschau-kaiserslautern-zur-sommergartenparty-im-neumuehlenpar
 k
END:VEVENT
END:VCALENDAR
