BEGIN:VCALENDAR
VERSION:2.0
PRODID:-//Chris Stockert//NONSGML kigkonsult.se iCalcreator 2.41.92//
CALSCALE:GREGORIAN
METHOD:PUBLISH
UID:36333962-3038-4636-b030-666232633165
X-WR-CALNAME:iCagenda
X-WR-CALDESC:Event Management Extension for Joomla!
X-WR-RELCALID:3E26604A-50F4-4449-8B3E-E4F4932D05B5
X-WR-TIMEZONE:UTC
BEGIN:VTIMEZONE
TZID:UTC
END:VTIMEZONE
BEGIN:VEVENT
UID:33323165-3737-4033-b333-646365643964
DTSTAMP:20260424T161237Z
CATEGORIES:Live Musik
CLASS:PUBLIC
DESCRIPTION:
DTSTART:20260528T121300Z
DTEND:20260528T210000Z
GEO:+49.506599;+8.289893
LOCATION:Plauderstubb Lambsheim
ORGANIZER:
SEQUENCE:1
SUMMARY:2MOTION - Plauderstubb Lambsheim
TRANSP:OPAQUE
URL:https://www.chris2026.chris-stockert.de/index.php/unterwegs/15-2motion-
 plauderstubb-lambsheim
END:VEVENT
END:VCALENDAR
