BEGIN:VCALENDAR
VERSION:2.0
PRODID:-//Chris Stockert//NONSGML kigkonsult.se iCalcreator 2.41.92//
CALSCALE:GREGORIAN
METHOD:PUBLISH
UID:64353463-3230-4461-b738-626461653833
X-WR-CALNAME:iCagenda
X-WR-CALDESC:Event Management Extension for Joomla!
X-WR-RELCALID:3E26604A-50F4-4449-8B3E-E4F4932D05B5
X-WR-TIMEZONE:UTC
BEGIN:VTIMEZONE
TZID:UTC
END:VTIMEZONE
BEGIN:VEVENT
UID:63356362-6561-4339-b839-633837336465
DTSTAMP:20260424T161801Z
CATEGORIES:DJ NOVAQ
CLASS:PUBLIC
DESCRIPTION:
DTSTART:20260508T180000Z
DTEND:20260508T210000Z
GEO:+49.528809;+8.349991
LOCATION:Kunsthaus Frankenthal
ORGANIZER:
SEQUENCE:1
SUMMARY:Vernissage im Kunsthaus Frankenthal - DJ & Live Vocals zur Eröffnun
 g
TRANSP:OPAQUE
URL:https://www.chris2026.chris-stockert.de/index.php/unterwegs/14-vernissa
 ge-im-kunsthaus-frankenthal-dj-live-vocals-zur-eroeffnung
END:VEVENT
END:VCALENDAR
